Workbook

Sheet Compilation
B1: Significant Effect | C1: No Significant Effect | D1: Significant Effect | E1: Significant Effect | F1: No Significant Effect | G1: No Significant Effect | J1: Significant Effect | K1: Significant Effect | L1: No Significant Effect | M1: No Significant Effect | P1: Significant Effect | Q1: Significant Effect | R1: No Significant Effect | S1: No Significant Effect | T1: Significant Effect | U1: No Significant Effect | Z1: Effect Paper | AA1: No effect paper | AB1: Uncertain Effect Paper
A2: BioEffect Cat | B2: Significant Effect | C2: No Significant Effect | D2: Real | E2: Simulated | F2: Real | G2: Simulated | J2: Pulsed | K2: Cont | L2: Pulsed | M2: Cont | P2: Industry | Q2: Govt, Institution | R2: Industry | S2: Govt, Institution | T2: Unknown | U2: Unknown
A3: Audio/Tinitus | B3: =Audio!Q71 -> 21 | C3: =Audio!Q72 -> 45 | D3: =Audio!Q75 -> 16 | E3: =Audio!Q79 -> 4 | F3: =Audio!Q76 -> 36 | G3: =Audio!Q80 -> 7 | J3: =Audio!Q83 -> 19 | K3: =Audio!Q87 -> 1 | L3: =Audio!Q84 -> 39 | M3: =Audio!Q88 -> 2 | P3: =Audio!AO70 -> 0 | Q3: =Audio!AO74 -> 4 | R3: =Audio!AO71 -> 3 | S3: =Audio!AO75 -> 24 | T3: =Audio!AO94 -> 15 | U3: =Audio!AO95 -> 19 | V3: Audio/Tinitus
A4: Cardio | B4: =Cardio!Q158 -> 67 | C4: =Cardio!Q159 -> 85 | D4: =Cardio!Q162 -> 36 | E4: =Cardio!Q166 -> 27 | F4: =Cardio!Q163 -> 46 | G4: =Cardio!Q167 -> 35 | J4: =Cardio!Q170 -> 47 | K4: =Cardio!Q174 -> 8 | L4: =Cardio!Q171 -> 64 | M4: =Cardio!Q175 -> 8 | P4: =Cardio!AO156 -> 2 | Q4: =Cardio!AO160 -> 34 | R4: =Cardio!AO157 -> 17 | S4: =Cardio!AO161 -> 58 | T4: =Cardio!AO180 -> 28 | U4: =Cardio!AO181 -> 18 | V4: Cardio
A5: Cognitive | B5: =Cognitive!Q202 -> 97 | C5: =Cognitive!Q203 -> 100 | D5: =Cognitive!Q206 -> 47 | E5: =Cognitive!Q210 -> 46 | F5: =Cognitive!Q207 -> 50 | G5: =Cognitive!Q211 -> 46 | J5: =Cognitive!Q214 -> 72 | K5: =Cognitive!Q218 -> 7 | L5: =Cognitive!Q215 -> 71 | M5: =Cognitive!Q219 -> 9 | P5: =Cognitive!AO201 -> 9 | Q5: =Cognitive!AO205 -> 63 | R5: =Cognitive!AO202 -> 29 | S5: =Cognitive!AO206 -> 61 | T5: =Cognitive!AO225 -> 29 | U5: =Cognitive!AO226 -> 26 | V5: Cognitive
A6: Depression | B6: =Depression!Q42 -> 19 | C6: =Depression!Q43 -> 17 | D6: =Depression!Q46 -> 16 | E6: =Depression!Q50 -> 2 | F6: =Depression!Q47 -> 11 | G6: =Depression!Q51 -> 6 | J6: =Depression!Q54 -> 16 | K6: =Depression!Q58 -> 0 | L6: =Depression!Q55 -> 14 | M6: =Depression!Q59 -> 1 | P6: =Depression!AO40 -> 1 | Q6: =Depression!AO44 -> 7 | R6: =Depression!AO41 -> 2 | S6: =Depression!AO45 -> 11 | T6: =Depression!AO64 -> 9 | U6: =Depression!AO65 -> 6 | V6: Depression
A7: Dizziness | B7: =Dizziness!Q56 -> 29 | C7: =Dizziness!Q57 -> 22 | D7: =Dizziness!Q60 -> 27 | E7: =Dizziness!Q64 -> 1 | F7: =Dizziness!Q61 -> 17 | G7: =Dizziness!Q65 -> 5 | J7: =Dizziness!Q68 -> 26 | K7: =Dizziness!Q72 -> 1 | L7: =Dizziness!Q69 -> 20 | M7: =Dizziness!Q73 -> 1 | P7: =Dizziness!AO55 -> 3 | Q7: =Dizziness!AO59 -> 12 | R7: =Dizziness!AO56 -> 2 | S7: =Dizziness!AO60 -> 12 | T7: =Dizziness!AO79 -> 13 | U7: =Dizziness!AO80 -> 9 | V7: Dizziness
A8: EEG | B8: =EEG!Q147 -> 111 | C8: =EEG!Q148 -> 32 | D8: =EEG!Q151 -> 46 | E8: =EEG!Q155 -> 17 | F8: =EEG!Q152 -> 15 | G8: =EEG!Q156 -> 17 | J8: =EEG!Q159 -> 88 | K8: =EEG!Q163 -> 14 | L8: =EEG!Q160 -> 26 | M8: =EEG!Q164 -> 4 | P8: =EEG!AO147 -> 23 | Q8: =EEG!AO151 -> 73 | R8: =EEG!AO148 -> 12 | S8: =EEG!AO152 -> 17 | T8: =EEG!AO171 -> 31 | U8: =EEG!AO172 -> 6 | V8: EEG
A9: Fatigue | B9: =Fatigue!Q62 -> 32 | C9: =Fatigue!Q63 -> 23 | D9: =Fatigue!Q66 -> 29 | E9: =Fatigue!Q70 -> 1 | F9: =Fatigue!Q67 -> 16 | G9: =Fatigue!Q71 -> 7 | J9: =Fatigue!Q74 -> 29 | K9: =Fatigue!Q78 -> 0 | L9: =Fatigue!Q75 -> 18 | M9: =Fatigue!Q79 -> 3 | P9: =Fatigue!AO59 -> 3 | Q9: =Fatigue!AO63 -> 14 | R9: =Fatigue!AO60 -> 5 | S9: =Fatigue!AO64 -> 19 | T9: =Fatigue!AO83 -> 12 | U9: =Fatigue!AO84 -> 4 | V9: Fatigue
A10: Gene Expression changes | B10: ='Gene Exprn changes'!Q292 -> 212 | C10: ='Gene Exprn changes'!Q297 -> 14 | D10: ='Gene Exprn changes'!Q296 -> 32 | E10: ='Gene Exprn changes'!Q300 -> 180 | F10: ='Gene Exprn changes'!Q297 -> 14 | G10: ='Gene Exprn changes'!Q301 -> 61 | J10: ='Gene Exprn changes'!Q304 -> 111 | K10: ='Gene Exprn changes'!Q308 -> 48 | L10: ='Gene Exprn changes'!Q305 -> 52 | M10: ='Gene Exprn changes'!Q309 -> 13 | P10: ='Gene Exprn changes'!AO291 -> 15 | Q10: ='Gene Exprn changes'!AO295 -> 170 | R10: ='Gene Exprn changes'!AO292 -> 13 | S10: ='Gene Exprn changes'!AO296 -> 53 | T10: ='Gene Exprn changes'!AO315 -> 29 | U10: ='Gene Exprn changes'!AO316 -> 15 | V10: Gene Expression changes
A11: Geneoxicity | B11: =Geneoxicity!Q404 -> 237 | C11: =Geneoxicity!Q405 -> 162 | D11: =Geneoxicity!Q408 -> 63 | E11: =Geneoxicity!Q412 -> 174 | F11: =Geneoxicity!Q409 -> 20 | G11: =Geneoxicity!Q413 -> 142 | J11: =Geneoxicity!Q416 -> 132 | K11: =Geneoxicity!Q420 -> 65 | L11: =Geneoxicity!Q417 -> 86 | M11: =Geneoxicity!Q421 -> 42 | P11: =Geneoxicity!AO403 -> 6 | Q11: =Geneoxicity!AO407 -> 129 | R11: =Geneoxicity!AO404 -> 40 | S11: =Geneoxicity!AO408 -> 99 | T11: =Geneoxicity!AO427 -> 94 | U11: =Geneoxicity!AO428 -> 39 | V11: Geneoxicity
A12: Headache | B12: =Headache!Q97 -> 61 | C12: =Headache!Q98 -> 31 | D12: =Headache!Q101 -> 51 | E12: =Headache!Q105 -> 4 | F12: =Headache!Q102 -> 19 | G12: =Headache!Q106 -> 9 | J12: =Headache!Q109 -> 53 | K12: =Headache!Q113 -> 1 | L12: =Headache!Q110 -> 23 | M12: =Headache!Q114 -> 2 | P12: =Headache!AO96 -> 8 | Q12: =Headache!AO100 -> 28 | R12: =Headache!AO97 -> 7 | S12: =Headache!AO101 -> 22 | T12: =Headache!AO120 -> 26 | U12: =Headache!AO121 -> 6 | V12: Headache
A13: Immune Sys | B13: ='Immune Sys'!Q199 -> 104 | C13: ='Immune Sys'!Q200 -> 89 | D13: ='Immune Sys'!Q203 -> 37 | E13: ='Immune Sys'!Q207 -> 64 | F13: ='Immune Sys'!Q204 -> 19 | G13: ='Immune Sys'!Q208 -> 65 | J13: ='Immune Sys'!Q211 -> 47 | K13: ='Immune Sys'!Q215 -> 22 | L13: ='Immune Sys'!Q212 -> 48 | M13: ='Immune Sys'!Q216 -> 14 | P13: ='Immune Sys'!AO197 -> 2 | Q13: ='Immune Sys'!AO201 -> 63 | R13: ='Immune Sys'!AO198 -> 12 | S13: ='Immune Sys'!AO202 -> 58 | T13: ='Immune Sys'!AO221 -> 36 | U13: ='Immune Sys'!AO222 -> 20 | V13: Immune Sys
A14: Inflammation | B14: =Inflammation!Q36 -> 19 | C14: =Inflammation!Q37 -> 11 | D14: =Inflammation!Q40 -> 7 | E14: =Inflammation!Q44 -> 10 | F14: =Inflammation!Q41 -> 2 | G14: =Inflammation!Q45 -> 7 | J14: =Inflammation!Q48 -> 12 | K14: =Inflammation!Q52 -> 2 | L14: =Inflammation!Q49 -> 4 | M14: =Inflammation!Q53 -> 3 | P14: =Inflammation!AO34 -> 0 | Q14: =Inflammation!AO38 -> 14 | R14: =Inflammation!AO35 -> 0 | S14: =Inflammation!AO39 -> 7 | T14: =Inflammation!AO58 -> 5 | U14: =Inflammation!AO59 -> 2 | V14: Inflammation
A15: Neurobehavioural | B15: =Neurobehavioural!Q241 -> 158 | C15: =Neurobehavioural!Q242 -> 76 | D15: =Neurobehavioural!Q245 -> 83 | E15: =Neurobehavioural!Q249 -> 71 | F15: =Neurobehavioural!Q246 -> 44 | G15: =Neurobehavioural!Q250 -> 30 | J15: =Neurobehavioural!Q253 -> 115 | K15: =Neurobehavioural!Q257 -> 14 | L15: =Neurobehavioural!Q254 -> 63 | M15: =Neurobehavioural!Q258 -> 8 | P15: =Neurobehavioural!AO238 -> 12 | Q15: =Neurobehavioural!AO242 -> 98 | R15: =Neurobehavioural!AO239 -> 23 | S15: =Neurobehavioural!AO243 -> 49 | T15: =Neurobehavioural!AO262 -> 50 | U15: =Neurobehavioural!AO263 -> 18 | V15: Neurobehavioural
A16: Ocular | B16: =Ocular!Q62 -> 32 | C16: =Ocular!Q63 -> 24 | D16: =Ocular!Q66 -> 12 | E16: =Ocular!Q70 -> 17 | F16: =Ocular!Q67 -> 9 | G16: =Ocular!Q71 -> 9 | J16: =Ocular!Q74 -> 18 | K16: =Ocular!Q78 -> 4 | L16: =Ocular!Q75 -> 20 | M16: =Ocular!Q79 -> 1 | P16: =Ocular!AO60 -> 0 | Q16: =Ocular!AO64 -> 12 | R16: =Ocular!AO61 -> 3 | S16: =Ocular!AO65 -> 14 | T16: =Ocular!AO84 -> 19 | U16: =Ocular!AO85 -> 8 | V16: Ocular
A17: Oxidative Stress | B17: ='Oxidative Stress'!Q394 -> 327 | C17: ='Oxidative Stress'!Q395 -> 61 | D17: ='Oxidative Stress'!Q398 -> 111 | E17: ='Oxidative Stress'!Q402 -> 210 | F17: ='Oxidative Stress'!Q399 -> 16 | G17: ='Oxidative Stress'!Q403 -> 42 | J17: ='Oxidative Stress'!Q406 -> 197 | K17: ='Oxidative Stress'!Q410 -> 63 | L17: ='Oxidative Stress'!Q407 -> 38 | M17: ='Oxidative Stress'!Q411 -> 14 | P17: ='Oxidative Stress'!AO392 -> 8 | Q17: ='Oxidative Stress'!AO396 -> 191 | R17: ='Oxidative Stress'!AO393 -> 12 | S17: ='Oxidative Stress'!AO397 -> 46 | T17: ='Oxidative Stress'!AO416 -> 119 | U17: ='Oxidative Stress'!AO417 -> 12 | V17: Oxidative Stress
A18: Synergisitc | B18: =Synergistic!Q86 -> 53 | C18: =Synergistic!Q87 -> 26 | D18: =Synergistic!Q90 -> 8 | E18: =Synergistic!Q94 -> 45 | F18: =Synergistic!Q91 -> 3 | G18: =Synergistic!Q95 -> 23 | J18: =Synergistic!Q98 -> 23 | K18: =Synergistic!Q102 -> 10 | L18: =Synergistic!Q99 -> 17 | M18: =Synergistic!Q103 -> 6 | P18: =Synergistic!AO83 -> 8 | Q18: =Synergistic!AO87 -> 38 | R18: =Synergistic!AO84 -> 5 | S18: =Synergistic!AO88 -> 19 | T18: =Synergistic!AO107 -> 14 | U18: =Synergistic!AO108 -> 3 | V18: Synergisitc
A19: Sleep | B19: =Sleep!Q95 -> 55 | C19: =Sleep!Q96 -> 34 | D19: =Sleep!Q99 -> 37 | E19: =Sleep!Q103 -> 15 | F19: =Sleep!Q100 -> 19 | G19: =Sleep!Q104 -> 14 | J19: =Sleep!Q107 -> 49 | K19: =Sleep!Q111 -> 2 | L19: =Sleep!Q108 -> 32 | M19: =Sleep!Q112 -> 0 | P19: =Sleep!AO93 -> 9 | Q19: =Sleep!AO97 -> 27 | R19: =Sleep!AO94 -> 11 | S19: =Sleep!AO98 -> 25 | T19: =Sleep!AO117 -> 23 | U19: =Sleep!AO118 -> 2 | V19: Sleep
A20: Biochemical | B20: =Biochemical!Q391 -> 325 | C20: =Biochemical!Q392 -> 60 | D20: =Biochemical!Q395 -> 82 | E20: =Biochemical!Q399 -> 243 | F20: =Biochemical!Q396 -> 16 | G20: =Biochemical!Q400 -> 44 | J20: =Biochemical!Q403 -> 171 | K20: =Biochemical!Q407 -> 75 | L20: =Biochemical!Q404 -> 36 | M20: =Biochemical!Q408 -> 9 | P20: =Biochemical!AO389 -> 10 | Q20: =Biochemical!AO393 -> 226 | R20: =Biochemical!AO390 -> 11 | S20: =Biochemical!AO394 -> 44 | T20: =Biochemical!AO413 -> 87 | U20: =Biochemical!AO414 -> 12 | V20: Biochemical
A21: Cell Damage | B21: ='Cell Damage'!Q90 -> 19 | C21: ='Cell Damage'!Q91 -> 65 | D21: ='Cell Damage'!Q94 -> 6 | E21: ='Cell Damage'!Q98 -> 13 | F21: ='Cell Damage'!Q95 -> 4 | G21: ='Cell Damage'!Q99 -> 61 | J21: ='Cell Damage'!Q102 -> 12 | K21: ='Cell Damage'!Q106 -> 3 | L21: ='Cell Damage'!Q103 -> 38 | M21: ='Cell Damage'!Q107 -> 11 | P21: ='Cell Damage'!AO88 -> 3 | Q21: ='Cell Damage'!AO92 -> 16 | R21: ='Cell Damage'!AO89 -> 10 | S21: ='Cell Damage'!AO93 -> 48 | T21: ='Cell Damage'!AO112 -> 3 | U21: ='Cell Damage'!AO113 -> 11 | V21: Cell Damage
A22: BBB | B22: =BBB!Q44 -> 15 | C22: =BBB!Q45 -> 23 | D22: =BBB!Q48 -> 4 | E22: =BBB!Q52 -> 0 | F22: =BBB!Q49 -> 3 | G22: =BBB!Q53 -> 0 | J22: =BBB!Q56 -> 9 | K22: =BBB!Q60 -> 6 | L22: =BBB!Q57 -> 19 | M22: =BBB!Q61 -> 2 | P22: =BBB!AO42 -> 1 | Q22: =BBB!AO46 -> 11 | R22: =BBB!AO43 -> 7 | S22: =BBB!AO47 -> 15 | T22: =BBB!AO66 -> 3 | U22: =BBB!AO67 -> 2 | V22: BBB
A23: Endocrine | B23: =Endocrine!Q144 -> 101 | C23: =Endocrine!Q145 -> 37 | D23: =Endocrine!Q148 -> 33 | E23: =Endocrine!Q152 -> 68 | F23: =Endocrine!Q149 -> 13 | G23: =Endocrine!Q153 -> 24 | J23: =Endocrine!Q156 -> 53 | K23: =Endocrine!Q160 -> 23 | L23: =Endocrine!Q157 -> 22 | M23: =Endocrine!Q161 -> 11 | P23: =Endocrine!AO142 -> 5 | Q23: =Endocrine!AO146 -> 60 | R23: =Endocrine!AO143 -> 5 | S23: =Endocrine!AO147 -> 17 | T23: =Endocrine!AO166 -> 34 | U23: =Endocrine!AO167 -> 16 | V23: Endocrine
A24: Adaptive Response | B24: ='Adaptive Response'!Q57 -> 35 | C24: ='Adaptive Response'!Q58 -> 16 | D24: ='Adaptive Response'!Q61 -> 4 | E24: ='Adaptive Response'!Q65 -> 31 | F24: ='Adaptive Response'!Q62 -> 4 | G24: ='Adaptive Response'!Q66 -> 12 | J24: ='Adaptive Response'!Q69 -> 19 | K24: ='Adaptive Response'!Q73 -> 11 | L24: ='Adaptive Response'!Q70 -> 11 | M24: ='Adaptive Response'!Q74 -> 0 | P24: ='Adaptive Response'!AO55 -> 0 | Q24: ='Adaptive Response'!AO59 -> 25 | R24: ='Adaptive Response'!AO56 -> 2 | S24: ='Adaptive Response'!AO60 -> 10 | T24: ='Adaptive Response'!AO79 -> 9 | U24: ='Adaptive Response'!AO80 -> 4 | V24: Adaptive Response
A25: Hepatic | B25: =Hepatic!Q66 -> 31 | C25: =Hepatic!Q67 -> 29 | D25: =Hepatic!Q70 -> 13 | E25: =Hepatic!Q74 -> 18 | F25: =Hepatic!Q71 -> 6 | G25: =Hepatic!Q75 -> 23 | J25: =Hepatic!Q78 -> 24 | K25: =Hepatic!Q82 -> 5 | L25: =Hepatic!Q79 -> 20 | M25: =Hepatic!Q83 -> 6 | P25: =Hepatic!AO64 -> 0 | Q25: =Hepatic!AO68 -> 13 | R25: =Hepatic!AO65 -> 4 | S25: =Hepatic!AO69 -> 18 | T25: =Hepatic!AO88 -> 15 | U25: =Hepatic!AO89 -> 5 | V25: Hepatic
A26: Mitochondrial | B26: =Mitochondrial!Q62 -> 39 | C26: =Mitochondrial!Q63 -> 17 | D26: =Mitochondrial!Q66 -> 4 | E26: =Mitochondrial!Q70 -> 35 | F26: =Mitochondrial!Q67 -> 1 | G26: =Mitochondrial!Q71 -> 16 | J26: =Mitochondrial!Q74 -> 21 | K26: =Mitochondrial!Q78 -> 10 | L26: =Mitochondrial!Q75 -> 11 | M26: =Mitochondrial!Q79 -> 5 | P26: =Mitochondrial!AO60 -> 3 | Q26: =Mitochondrial!AO64 -> 30 | R26: =Mitochondrial!AO61 -> 3 | S26: =Mitochondrial!AO65 -> 10 | T26: =Mitochondrial!AO84 -> 6 | U26: =Mitochondrial!AO85 -> 3 | V26: Mitochondrial
A27: Metabolic | B27: =Metabolic!Q111 -> 32 | C27: =Metabolic!Q112 -> 73 | D27: =Metabolic!Q115 -> 3 | E27: =Metabolic!Q119 -> 29 | F27: =Metabolic!Q116 -> 13 | G27: =Metabolic!Q120 -> 60 | J27: =Metabolic!Q123 -> 17 | K27: =Metabolic!Q127 -> 14 | L27: =Metabolic!Q124 -> 47 | M27: =Metabolic!Q128 -> 18 | P27: =Metabolic!AO109 -> 3 | Q27: =Metabolic!AO113 -> 21 | R27: =Metabolic!AO110 -> 21 | S27: =Metabolic!AO114 -> 50 | T27: =Metabolic!AO133 -> 9 | U27: =Metabolic!AO134 -> 14 | V27: Metabolic
A28: Neurotransmitter | B28: =Neurotransmitter!Q61 -> 41 | C28: =Neurotransmitter!Q62 -> 14 | D28: =Neurotransmitter!Q65 -> 7 | E28: =Neurotransmitter!Q69 -> 34 | F28: =Neurotransmitter!Q66 -> 2 | G28: =Neurotransmitter!Q70 -> 12 | J28: =Neurotransmitter!Q73 -> 21 | K28: =Neurotransmitter!Q77 -> 7 | L28: =Neurotransmitter!Q74 -> 8 | M28: =Neurotransmitter!Q78 -> 3 | P28: =Neurotransmitter!AO59 -> 3 | Q28: =Neurotransmitter!AO63 -> 31 | R28: =Neurotransmitter!AO60 -> 3 | S28: =Neurotransmitter!AO64 -> 11 | T28: =Neurotransmitter!AO83 -> 9 | U28: =Neurotransmitter!AO84 -> 1 | V28: Neurotransmitter
A29: Cell morphology | B29: ='Cell morphological'!Q206 -> 135 | C29: ='Cell morphological'!Q207 -> 65 | D29: ='Cell morphological'!Q210 -> 47 | E29: ='Cell morphological'!Q214 -> 88 | F29: ='Cell morphological'!Q211 -> 17 | G29: ='Cell morphological'!Q215 -> 48 | J29: ='Cell morphological'!Q218 -> 81 | K29: ='Cell morphological'!Q222 -> 26 | L29: ='Cell morphological'!Q219 -> 39 | M29: ='Cell morphological'!Q223 -> 14 | P29: ='Cell morphological'!AO204 -> 3 | Q29: ='Cell morphological'!AO208 -> 76 | R29: ='Cell morphological'!AO205 -> 6 | S29: ='Cell morphological'!AO209 -> 48 | T29: ='Cell morphological'!AO228 -> 52 | U29: ='Cell morphological'!AO229 -> 13 | V29: Cell morphology
A30: Memory | B30: =Memory!Q161 -> 71 | C30: =Memory!Q162 -> 85 | D30: =Memory!Q165 -> 30 | E30: =Memory!Q169 -> 36 | F30: =Memory!Q166 -> 40 | G30: =Memory!Q170 -> 40 | J30: =Memory!Q173 -> 48 | K30: =Memory!Q177 -> 7 | L30: =Memory!Q174 -> 59 | M30: =Memory!Q178 -> 7 | P30: =Memory!AO160 -> 2 | Q30: =Memory!AO164 -> 49 | R30: =Memory!AO161 -> 27 | S30: =Memory!AO165 -> 54 | T30: =Memory!AO184 -> 20 | U30: =Memory!AO185 -> 20 | V30: Memory
A31: Fertility | B31: =Fertility!Q155 -> 109 | C31: =Fertility!Q156 -> 39 | D31: =Fertility!Q159 -> 53 | E31: =Fertility!Q163 -> 56 | F31: =Fertility!Q160 -> 13 | G31: =Fertility!Q164 -> 25 | J31: =Fertility!Q167 -> 73 | K31: =Fertility!Q171 -> 16 | L31: =Fertility!Q168 -> 27 | M31: =Fertility!Q172 -> 7 | P31: =Fertility!AO152 -> 3 | Q31: =Fertility!AO156 -> 61 | R31: =Fertility!AO153 -> 1 | S31: =Fertility!AO157 -> 26 | T31: =Fertility!AO176 -> 38 | U31: =Fertility!AO177 -> 12 | V31: Fertility
A32: BioEffect Cat | B32: How Generated | C32: Significant Effect | D32: No Significant Effect | E32: Proportion Effects | F32: Proportion No Effects | G32: BioEffect Cat | H32: WaveType | I32: Significant Effect | J32: No Significant Effect | K32: Proportion Effects | L32: Proportion No Effects | M32: BioEffect Cat | N32: Funding | O32: Significant Effect | P32: No Significant Effect | Q32: Proportion Effects | R32: Proportion No Effects
A33: Adaptive Response | B33: Real | C33: =D24 -> 4 | D33: =F24 -> 4 | E33: =C33/SUM(C33:D33) -> 0.5 | F33: =D33/SUM(C33:D33) -> 0.5 | G33: Cell Adaptive | H33: Pulsed | I33: =J24 -> 19 | J33: =L24 -> 11 | K33: =I33/SUM(I33:J33) -> 0.63333333 | L33: =J33/SUM(I33:J33) -> 0.36666667 | M33: Cell Adaptive | N33: Industry | O33: =P24 -> 0 | P33: =R24 -> 2 | Q33: =O33/SUM(O33:P33) -> 0 | R33: =P33/SUM(O33:P33) -> 1
A34: Adaptive Response | B34: Simulated | C34: =E24 -> 31 | D34: =G24 -> 12 | E34: =C34/SUM(C34:D34) -> 0.72093023 | F34: =D34/SUM(C34:D34) -> 0.27906977 | G34: Cell Adaptive | H34: Continouus | I34: =K24 -> 11 | J34: =M24 -> 0 | K34: =I34/SUM(I34:J34) -> 1 | L34: =J34/SUM(I34:J34) -> 0 | M34: Cell Adaptive | N34: Govt or Institut. | O34: =Q24 -> 25 | P34: =S24 -> 10 | Q34: =O34/SUM(O34:P34) -> 0.71428571 | R34: =P34/SUM(O34:P34) -> 0.28571429
A35: Audio/Tinitus | B35: Real | C35: =D3 -> 16 | D35: =F3 -> 36 | E35: =C35/SUM(C35:D35) -> 0.30769231 | F35: =D35/SUM(C35:D35) -> 0.69230769 | G35: Audio/Tinitus | H35: Pulsed | I35: =J3 -> 19 | J35: =L3 -> 39 | K35: =I35/SUM(I35:J35) -> 0.32758621 | L35: =J35/SUM(I35:J35) -> 0.67241379 | M35: Audio/Tinitus | N35: Industry | O35: =P3 -> 0 | P35: =R3 -> 3 | Q35: =O35/SUM(O35:P35) -> 0 | R35: =P35/SUM(O35:P35) -> 1
A36: Audio/Tinitus | B36: Simulated | C36: =E3 -> 4 | D36: =G3 -> 7 | E36: =C36/SUM(C36:D36) -> 0.36363636 | F36: =D36/SUM(C36:D36) -> 0.63636364 | G36: Audio/Tinitus | H36: Continouus | I36: =K3 -> 1 | J36: =M3 -> 2 | K36: =I36/SUM(I36:J36) -> 0.33333333 | L36: =J36/SUM(I36:J36) -> 0.66666667 | M36: Audio/Tinitus | N36: Govt or Institut. | O36: =Q3 -> 4 | P36: =S3 -> 24 | Q36: =O36/SUM(O36:P36) -> 0.14285714 | R36: =P36/SUM(O36:P36) -> 0.85714286
A37: Blood Brain Barrier | B37: Real | C37: =D22 -> 4 | D37: =F22 -> 3 | E37: =C37/SUM(C37:D37) -> 0.57142857 | F37: =D37/SUM(C37:D37) -> 0.42857143 | G37: Blood Brain Barrier | H37: Pulsed | I37: =J22 -> 9 | J37: =L22 -> 19 | K37: =I37/SUM(I37:J37) -> 0.32142857 | L37: =J37/SUM(I37:J37) -> 0.67857143 | M37: Blood Brain Barrier | N37: Industry | O37: =P22 -> 1 | P37: =R22 -> 7 | Q37: =O37/SUM(O37:P37) -> 0.125 | R37: =P37/SUM(O37:P37) -> 0.875
A38: Blood Brain Barrier | B38: Simulated | C38: =E22 -> 0 | D38: =G22 -> 0 | E38: 0 | F38: 0 | G38: Blood Brain Barrier | H38: Continouus | I38: =K22 -> 6 | J38: =M22 -> 2 | K38: =I38/SUM(I38:J38) -> 0.75 | L38: =J38/SUM(I38:J38) -> 0.25 | M38: Blood Brain Barrier | N38: Govt or Institut. | O38: =Q22 -> 11 | P38: =S22 -> 15 | Q38: =O38/SUM(O38:P38) -> 0.42307692 | R38: =P38/SUM(O38:P38) -> 0.57692308
A39: Cardio | B39: Real | C39: =D4 -> 36 | D39: =F4 -> 46 | E39: =C39/SUM(C39:D39) -> 0.43902439 | F39: =D39/SUM(C39:D39) -> 0.56097561 | G39: Cardio | H39: Pulsed | I39: =J4 -> 47 | J39: =L4 -> 64 | K39: =I39/SUM(I39:J39) -> 0.42342342 | L39: =J39/SUM(I39:J39) -> 0.57657658 | M39: Cardio | N39: Industry | O39: =P4 -> 2 | P39: =R4 -> 17 | Q39: =O39/SUM(O39:P39) -> 0.10526316 | R39: =P39/SUM(O39:P39) -> 0.89473684
A40: Cardio | B40: Simulated | C40: =E4 -> 27 | D40: =G4 -> 35 | E40: =C40/SUM(C40:D40) -> 0.43548387 | F40: =D40/SUM(C40:D40) -> 0.56451613 | G40: Cardio | H40: Continouus | I40: =K4 -> 8 | J40: =M4 -> 8 | K40: =I40/SUM(I40:J40) -> 0.5 | L40: =J40/SUM(I40:J40) -> 0.5 | M40: Cardio | N40: Govt or Institut. | O40: =Q4 -> 34 | P40: =S4 -> 58 | Q40: =O40/SUM(O40:P40) -> 0.36956522 | R40: =P40/SUM(O40:P40) -> 0.63043478
...

Sheet Audio
A1: PaperID | B1: Title | C1: Main_Review | D1: Authors | E1: Date_Pub | F1: Freq_Cat | G1: Exposure::RFHigh | H1: Exposure::RFLow | I1: Exposure::PowerDensity | J1: Exposure::Sar_val | K1: Exposure::E_Field | L1: Signal Type | M1: Exposure::SignalGen | N1: Exposure::WaveType | O1: Exposure::CummHrs | P1: Exposure::CellsAnimal | Q1: Effect | R1: AD | S1: Birds | T1: Insects | U1: Animal | V1: Plants | W1: Microbes | X1: Marine | Y1: InVitro | Z1: InVivo | AA1: Human_Pro | AB1: Epidemiology | AC1: GFund | AD1: IndFund | AE1: InstFund | AF1: PFund | AG1: PubFund | AH1: UNFund | AI1: UnkFund | AJ1: Govt+Institutn | AK1: Priv+Pub | AL1: Indust or Unstated Unknown | AM1: Indust or UNstated | AN1: WLink
A2: 22 | B2: Effects of chronic exposure to electromagnetic waves on the auditory system. | C2: Abstract CONCLUSION: The results support that chronic electromagnetic field exposure may cause damage by leading to neuronal degeneration of the auditory system. OBJECTIVES: Numerous researches have been done about the risks of exposure to the electromagnetic fields that occur during the use of these devices, especially the effects on hearing. The aim of this study is to evaluate the effects of the electromagnetic waves emitted by the mobile phones through the electrophysiological and histological methods. METHODS: Twelve adult Wistar albino rats were included in the study. The rats were divided into two groups of six rats. The study group was exposed to the electromagnetic waves over a period of 30 days. The control group was not given any exposure to the electromagnetic fields. After the completion of the electromagnetic wave application, the auditory brainstem responses of both groups were recorded under anesthesia. The degeneration of cochlear nuclei was graded by two different histologists, both of whom were blinded to group information. RESULTS: The histopathologic and immunohistochemical analysis showed neuronal degeneration signs, such as increased vacuolization in the cochlear nucleus, pyknotic cell appearance, and edema in the group exposed to the electromagnetic fields compared to the control group. The average latency of wave in the ABR was similar in both groups (p > 0.05). | D2: Ozgur A, Tumkaya L, Terzi S, Kalkan Y, Erdivanli OC, Dursun E | E2: 42096 | F2: UHF (300 MHz-3 GHz) studies | L2: Simulated | M2: RF Signal Generator | N2: Continuous | O2: 720 | P2: Rats - Wistar Albino | Q2: Effect | R2: 1 | S2: 0 | T2: 0 | U2: 1 | V2: 0 | W2: 0 | X2: 0 | Y2: 0 | Z2: 1 | AA2: 0 | AB2: 0 | AC2: 0 | AD2: 0 | AE2: 1 | AF2: 0 | AG2: 0 | AH2: 0 | AI2: 0 | AJ2: =IF(OR(AC2=1,AE2=1),1,0) -> 1 | AK2: =IF(OR(AF2=1,AG2=1),1,0) -> 0 | AL2: =IF(OR(AD2=1,AH2=1,AI2=1),1,0) -> 0 | AM2: =IF(OR(AD2=1,AH2=1),1,0) -> 0 | AN2: http://www.ncbi.nlm.nih.gov/pubmed/25836770?dopt=Abstract
A3: 57 | B3: The effect of radiofrequency radiation generated by a Global System for Mobile Communications source on cochlear development in a rat model | C3: Abstract OBJECTIVE: This study aimed to determine the effect of radiofrequency radiation generated by 900 and 1800 MHz Global System for Mobile Communications sources on cochlear development in the rat model. METHODS: Eight pregnant albino Wistar rats were divided into three groups: control, 900 MHz and 1800 MHz. The latter two groups of pregnant rats were exposed to radiofrequency radiation for 1 hour per day starting on the 12th day of pregnancy until delivery. The rats in the control, 900 MHz and 1800 MHz groups gave birth to 24, 31 and 26 newborn rats respectively. Newborn rats in the 900 MHz and 1800 MHz groups were exposed to radiofrequency radiation for 1 hour per day for 21 days after delivery. Hearing evaluations of newborn rats were carried out using distortion product otoacoustic emissions testing. Eight newborn rats were randomly selected from each group for electron microscopic evaluation. RESULTS: Distortion product otoacoustic emission tests revealed no significant difference among the groups, but electron microscopic evaluation revealed significant differences among the groups with regard to the number of normal, apoptotic and necrotic cells. CONCLUSION: The findings indicated cellular structural damage in the cochlea caused by radiofrequency radiation exposure during cochlear development in the rat model. | D3: Seckin E, Suren Basar F, Atmaca S, Kaymaz FF, Suzer A, Akar A, Sunan E, Koyuncu M. | E3: 41760 | F3: UHF (300 MHz-3 GHz) studies | G3: 950 | H3: 850 | I3: 1658 | K3: 25 | L3: Simulated | M3: Simulated by a signal generator | N3: Continuous | O3: 21 | P3: Rats - Wistar Albino | Q3: Effect | R3: 0 | S3: 0 | T3: 0 | U3: 1 | V3: 0 | W3: 0 | X3: 0 | Y3: 0 | Z3: 1 | AA3: 0 | AB3: 0 | AC3: 0 | AD3: 0 | AE3: 0 | AF3: 0 | AG3: 0 | AH3: 0 | AI3: 1 | AJ3: =IF(OR(AC3=1,AE3=1),1,0) -> 0 | AK3: =IF(OR(AF3=1,AG3=1),1,0) -> 0 | AL3: =IF(OR(AD3=1,AH3=1,AI3=1),1,0) -> 1 | AM3: =IF(OR(AD3=1,AH3=1),1,0) -> 0 | AN3: http://www.ncbi.nlm.nih.gov/pubmed/24784924?dopt=Abstract
A4: 129 | B4: Health effects of living near mobile phone base transceiver station (BTS) antennae: a report from Isfahan, Iran | C4: Aim: A cross-sectional study was conducted in Iran to examine health complaints among subjects living near mobile phone base stations. Background: The study design is based on the study by Alazawi (2011). Total population surveyed was 250 Study group: men and women, aged over 18 years Group characteristics: residents have been living for more than one year near a base station Observation period: October 2012 - November 2012 Study location: Iran (Isfahan) Exclusion criteria: living near transformers (≤ 10 m) and/or power lines (≤ 100 m) Results: The results showed that most of the symptoms such as nausea, headache, dizziness, irritability, discomfort, nervousness, depression, sleep disturbance, memory loss and lowering of libido were statistically significant in the inhabitants living near the BTS antenna (<300 m distances) compared to those living far from the BTS antenna (>300 m). Conclusion: It is suggested that cellular phone BTS antenna should not be sited closer than 300 m to populations to minimise exposure of neighbours. | D4: Shahbazi-Gahrouei D, Karbalae M, Moradi HA, Baradaran-Ghahfarokhi M | E4: 41518 | F4: UHF (300 MHz-3 GHz) Ecological studies | G4: 2100 | H4: 800 | L4: Real | M4: Mobile Phone Base Station | N4: Pulsed | O4: 0 | P4: Humans | Q4: Effect | R4: 0 | S4: 0 | T4: 0 | U4: 0 | V4: 0 | W4: 0 | X4: 0 | Y4: 0 | Z4: 0 | AA4: 0 | AB4: 1 | AC4: 0 | AD4: 0 | AE4: 0 | AF4: 0 | AG4: 0 | AH4: 0 | AI4: 1 | AJ4: =IF(OR(AC4=1,AE4=1),1,0) -> 0 | AK4: =IF(OR(AF4=1,AG4=1),1,0) -> 0 | AL4: =IF(OR(AD4=1,AH4=1,AI4=1),1,0) -> 1 | AM4: =IF(OR(AD4=1,AH4=1),1,0) -> 0 | AN4: http://www.ncbi.nlm.nih.gov/pubmed/23781985?dopt=Abstract
A5: 178 | B5: Effects of the mobile phones on the hearing function of the Users | C5: Abstract Background: There is a public concern of the health effects of the extensive use of mobile phone. Many studies were conducted producing controversial results. Very few studies were performed in the Middle East. Objective: To study the effects of the mobile phone on the hearing function of the users. Method: Forty-eight Students aged 18-23 years old were divided into three groups. They were investigated from September 2005 till October 2007. Group one 16 girls who have used mobile phones frequently and spoken approximately 3-4 hours per day for two years. Group two 16 girls who have used mobile phones for 1-2 hours per day for two years. Group three 16 girls who have never used mobile phones (control group). Medical history was obtained and pure tone was performed. Result: Examination showed that four students from group one had reported ear pain, headache, tinnitus, weddings noise, and party noise in the used ear and only one from group two suffered from tinnitus and headache. While two from group three suffered from tinnitus. Conclusion: Our findings, conducted on small number of individuals for limited period, showed that high degree of limited hearing loss might be associated with long-term use of the mobile phones. However, the possibility remains that there could be other health effects and that we need to conduct further study on larger number of individuals and for a longer period. | D5: Al-Abduljawad K | E5: 39600 | F5: UHF (300 MHz-3 GHz) studies | L5: Real | M5: Mobile Phone | N5: Pulsed | O5: 0 | P5: Humans | Q5: Uncertain Effect | R5: 0 | S5: 0 | T5: 0 | U5: 0 | V5: 0 | W5: 0 | X5: 0 | Y5: 0 | Z5: 0 | AA5: 0 | AB5: 1 | AC5: 0 | AD5: 0 | AE5: 1 | AF5: 0 | AG5: 0 | AH5: 0 | AI5: 0 | AJ5: =IF(OR(AC5=1,AE5=1),1,0) -> 1 | AK5: =IF(OR(AF5=1,AG5=1),1,0) -> 0 | AL5: =IF(OR(AD5=1,AH5=1,AI5=1),1,0) -> 0 | AM5: =IF(OR(AD5=1,AH5=1),1,0) -> 0 | AN5: http://www.bahrainmedicalbulletin.com/june_2008/Effect_mobile.pdf
A6: 180 | B6: A Study in Kuwait of Health Risks Associated with Using Cell Phones | C6: Abstract Previous studies have suggested a link between cell phone use and various symptoms. Analysis of 3,274 completed questionnaires from throughout Kuwait show a significant effect of exposure to cell phones for burning sensation on the ear, temporal pain, pain in the back of the head, auricular pain, noises in the ear, ear numbness, heartbeat disturbances, fatigue or stress, eye discomfort or pain, learning difficulties, sleep disturbances, headache, difficulty in concentration, agitation, and breathing problems; length of call is more important than number of calls per day; and an increased effect with use of a headset or use in the car. Free Full Text Available | D6: Al-Khamees Nedaa | E6: 39142 | F6: UHF (300 MHz-3 GHz) studies | L6: Real | M6: Mobile Phone | N6: Pulsed | O6: 0 | P6: Human - Population Groups | Q6: Effect | R6: 1 | S6: 0 | T6: 0 | U6: 0 | V6: 0 | W6: 0 | X6: 0 | Y6: 0 | Z6: 0 | AA6: 0 | AB6: 1 | AC6: 0 | AD6: 0 | AE6: 0 | AF6: 0 | AG6: 0 | AH6: 0 | AI6: 1 | AJ6: =IF(OR(AC6=1,AE6=1),1,0) -> 0 | AK6: =IF(OR(AF6=1,AG6=1),1,0) -> 0 | AL6: =IF(OR(AD6=1,AH6=1,AI6=1),1,0) -> 1 | AM6: =IF(OR(AD6=1,AH6=1),1,0) -> 0 | AN6: http://www.freepatentsonline.com/article/College-Student-Journal/161282242.html
A7: 213 | B7: Subjective complaints of people living near mobile phone base stations in Poland | C7: OBJECTIVES: The aim of our study was to assess the health conditions and subjective symptoms of the inhabitants living in the base stations vicinity and to analyse the relationship between the complaints and level of exposure to electromagnetic fields (EMF). Method: 500 over the age of 18 years old where studied. Our study was performed in housing estates located in five regions of Łódź. The electric field measurements were performed in the buildings located closest to the azimuth of the antennas. Respondents were selected by trained interviewers using an uniform procedure. The number of the households to be examined was set at a minimum of 420. The questionnaire contained: demographic data, occupational and environmental exposure to EMF, health condition, subjective complaints. Results were adjusted for confounders (age, gender, EMF at the workplace and EMF emitted by household equipment) using multiple regression model. Results: Electric field strength above 0.8 V/m (sensitivity of measuring set) was recorded in 12% of flats (23 out of 195 flats), the admissible value specified by Polish standards of 7 V/m was not exceeded. There was no significant correlation between electric field strength and distance of examined flats from the mobile phone base stations. Headache was reported by 57 % of the subjects, mostly (36.4%) living 100-150 m away from the mobile phone base station compared to subjects living at longer distances. People living at a distance above 150 m away from the mobile phone base station reported more often impaired memory than subjects living 50-150 m away to the base station. No statistically significant differences between the four different groups were observed for all other investigated subjective symptoms and health status. Conclusion: The explanation why we did not find any correlation between the electric field strength and frequency of subjective symptoms but found a correlation between subjective symptoms and distance from base station needs further studies. Maybe new metrics of exposure assessment should be adopted for this purpose. Free Text Available | D7: Bortkiewicz A, Gadzicka E, Szyjkowska A, Politanski P, Mamrot P, Szymczak W, Zmyslony M. | E7: 40913 | F7: UHF (300 MHz-3 GHz) Ecological studies | G7: 2200 | H7: 800 | K7: 3.2 | L7: Real | M7: Mobile Phone Base Station | N7: Pulsed | O7: 0 | P7: Human - Population Groups | Q7: Effect | R7: 0 | S7: 0 | T7: 0 | U7: 0 | V7: 0 | W7: 0 | X7: 0 | Y7: 0 | Z7: 0 | AA7: 0 | AB7: 1 | AC7: 1 | AD7: 0 | AE7: 0 | AF7: 0 | AG7: 0 | AH7: 0 | AI7: 0 | AJ7: =IF(OR(AC7=1,AE7=1),1,0) -> 1 | AK7: =IF(OR(AF7=1,AG7=1),1,0) -> 0 | AL7: =IF(OR(AD7=1,AH7=1,AI7=1),1,0) -> 0 | AM7: =IF(OR(AD7=1,AH7=1),1,0) -> 0 | AN7: http://www.emf-portal.de/viewer.php?aid=20078&l=e
A8: 235 | B8: Survey of mobile phone use and their chronic effects on the hearing of a student population | C8: Abstract Mobile phone ownership and usage is now widespread and public concern has developed over possible harmful physiological effects of their use. This study aimed to investigate the prevalence of student mobile phone ownership and any possible chronic effects of usage on hearing, tinnitus and balance. Questionnaires for electronic self-completion were distributed to University of Southampton postgraduates, and 117 out of 160 returned met the criteria for analysis. A total of 94% were current mobile phone users, and only 2% had never used a mobile phone. Duration of ownership and daily usage ranged from 0-7 years and 0-45 minutes respectively. Text-messaging was more popular than talking. High or long-term users reported no worse hearing, tinnitus, or balance than low or short-term users. The results of this study confirm that the prevalence of mobile phone ownership amongst students is extremely high. However there appear to be no harmful effects of mobile phone usage on their audiovestibular systems within the range of exposure of the study, insofar as can be detected by the self-report method employed. | D8: Davidson HC, Lutman ME. | E8: 39142 | F8: UHF (300 MHz-3 GHz) studies | G8: 1800 | H8: 900 | L8: Real | M8: Mobile Phone | N8: Pulsed | O8: 0 | P8: Human - Student Group | Q8: No Effect | R8: 0 | S8: 0 | T8: 0 | U8: 0 | V8: 0 | W8: 0 | X8: 0 | Y8: 0 | Z8: 0 | AA8: 0 | AB8: 1 | AC8: 0 | AD8: 0 | AE8: 0 | AF8: 0 | AG8: 0 | AH8: 0 | AI8: 1 | AJ8: =IF(OR(AC8=1,AE8=1),1,0) -> 0 | AK8: =IF(OR(AF8=1,AG8=1),1,0) -> 0 | AL8: =IF(OR(AD8=1,AH8=1,AI8=1),1,0) -> 1 | AM8: =IF(OR(AD8=1,AH8=1),1,0) -> 0 | AN8: http://www.ncbi.nlm.nih.gov/pubmed/17365064
A9: 265 | B9: Cohort study on the effects of everyday life radio frequency electromagnetic field exposure on non-specific symptoms and tinnitus | C9: Abstract BACKGROUND: There is public concern regarding potential health effects of radio frequency electromagnetic fields (RF-EMF) exposure, as produced by mobile phones or broadcast transmitters. The objective of this study was to investigate the association between RF-EMF exposure and non-specific symptoms and tinnitus in a prospective cohort study. METHODS: In 2008, 1375 randomly selected participants from Basel, Switzerland, were enrolled in a questionnaire survey with follow-up after one year (participation rate 82%). A score for somatic complaints (von Zerssen list) and headache (HIT-6) was assessed. Far-field environmental RF-EMF exposure was predicted using a validated prediction model. Regarding near-field exposure, self-reported mobile and cordless phone use as well as mobile phone operator data were collected. In multivariate regression models, we investigated whether exposure at baseline (cohort analysis) or changes in exposure between baseline and follow-up (change analysis) were related to changes in health scores. RESULTS: For participants in the top decile of environmental far-field RF-EMF exposure at baseline, in comparison to participants exposed below the median value, the change in the von Zerssen- and HIT-6-scores between baseline and follow-up was -0.12 (95%-CI: -1.79 to 1.56) and -0.37 (95%-CI: -1.80 to 1.07) units, respectively. Exposure to near-field sources and a change in exposure between baseline and follow-up were not related to non-specific symptoms. Similarly, no association between RF-EMF exposure and tinnitus was observed. CONCLUSIONS: In this first cohort study using objective and well-validated RF-EMF exposure measures, we did not observe an association between RF-EMF exposure and non-specific symptoms or tinnitus. | D9: Frei P, Mohler E, Braun-Fahrländer C, Fröhlich J, Neubauer G, Röösli M; QUALIFEX-team. | E9: 40909 | F9: UHF (300 MHz-3 GHz) studies | L9: Real | N9: Pulsed | Q9: No Effect | R9: 0 | S9: 0 | T9: 0 | U9: 0 | V9: 0 | W9: 0 | X9: 0 | Y9: 0 | Z9: 0 | AA9: 0 | AB9: 1 | AC9: 1 | AD9: 0 | AE9: 0 | AF9: 0 | AG9: 0 | AH9: 0 | AI9: 0 | AJ9: =IF(OR(AC9=1,AE9=1),1,0) -> 1 | AK9: =IF(OR(AF9=1,AG9=1),1,0) -> 0 | AL9: =IF(OR(AD9=1,AH9=1,AI9=1),1,0) -> 0 | AM9: =IF(OR(AD9=1,AH9=1),1,0) -> 0 | AN9: http://www.ncbi.nlm.nih.gov/pubmed/21982030
A10: 272 | B10: Hearing level and intensive use of mobile phones | C10: INTRODUCTION: Wide studies and substantial controversies build on utilization of actual mobile phones and appearance of systemic disorders or even tumours, but there is no knowledge about an eventual involvement on early hearing loss. PATIENTS AND METHODS: In a group of three hundred and twenty-three healthy and normoacoustic volunteers who were usual costumers of mobile phones an audiometric evaluation was made at the beginnig of its use and three years later, inquiring about the periods of time per day and year employed on direct contacts with phone. A healthy and normoacoustic control group of non users was studied too. RESULTS: Cases carried out 24.3 +/- 8.2 active contacts, reaching 50.4 +/- 27.8 days of mobile phone employment in three years. Audiometric curve was similar in cases and controls at the beginning of the study. After this follow-up, cases showed an increase on hearing threshold between 1 and 5 dB HL more than controls in speech tones (p<0.001). Moreover, there was a trend to correlate time of phone use to hearing impairment, but this finding did not result statistically significative. CONCLUSIONS: Frequent management of mobile phones in a middle period of time allows to detect a mild hearing loss, but the cause of this disorder keeps unclear. Article in Spanish | D10: García Callejo FJ, García Callejo F, Peña Santamaría J, Alonso Castañeira I, Sebastián Gil E, Marco Algarra J. | E10: 38473 | F10: UHF (300 MHz-3 GHz) studies | L10: Real | M10: Mobile Phone | N10: Pulsed | O10: 0 | P10: Humans | Q10: Effect | R10: 1 | S10: 0 | T10: 0 | U10: 0 | V10: 0 | W10: 0 | X10: 0 | Y10: 0 | Z10: 1 | AA10: 0 | AB10: 0 | AC10: 0 | AD10: 0 | AE10: 0 | AF10: 0 | AG10: 0 | AH10: 0 | AI10: 1 | AJ10: =IF(OR(AC10=1,AE10=1),1,0) -> 0 | AK10: =IF(OR(AF10=1,AG10=1),1,0) -> 0 | AL10: =IF(OR(AD10=1,AH10=1,AI10=1),1,0) -> 1 | AM10: =IF(OR(AD10=1,AH10=1),1,0) -> 0 | AN10: http://www.ncbi.nlm.nih.gov/pubmed/15960120
A11: 304 | B11: Vestibular schwannoma, tinnitus and cellular telephones | C11: Abstract Cases with tinnitus after using analogue cellular telephones are presented. An increased odds ratio of 3.45, 95% confidence interval (CI) 1.77-6.76, was found for vestibular schwannoma (VS) associated with the use of analogue cell phones. During the time period 1960-1998, the age-standardized incidence of VS in Sweden significantly increased yearly by +2.53% (CI 1.71-3.35). A significant increase in the incidence of VS was only found for the latter of the two time periods 1960-1979 and 1980-1998. For all other brain tumors taken together, the incidence significantly increased yearly by +0.80% (CI 0.59-1.02) for the time period 1960-1998, although the increase was only significant for benign tumors other than VS during 1960-1979. | D11: Hardell L, Hansson Mild K, Sandström M, Carlberg M, Hallquist A, Påhlson A. | E11: 38047 | F11: UHF (300 MHz-3 GHz) studies | L11: Real | M11: Mobile Phone | N11: Pulsed | Q11: Effect | R11: 1 | S11: 0 | T11: 0 | U11: 0 | V11: 0 | W11: 0 | X11: 0 | Y11: 0 | Z11: 0 | AA11: 0 | AB11: 1 | AC11: 0 | AD11: 0 | AE11: 0 | AF11: 0 | AG11: 0 | AH11: 0 | AI11: 1 | AJ11: =IF(OR(AC11=1,AE11=1),1,0) -> 0 | AK11: =IF(OR(AF11=1,AG11=1),1,0) -> 0 | AL11: =IF(OR(AD11=1,AH11=1,AI11=1),1,0) -> 1 | AM11: =IF(OR(AD11=1,AH11=1),1,0) -> 0 | AN11: http://www.ncbi.nlm.nih.gov/pubmed/12629278
A12: 323 | B12: Tinnitus and mobile phone use | C12: Abstract Objectives: The mechanisms that produce tinnitus are not fully understood. While tinnitus can be associated with diseases and disorders of the ear, retrocochlear diseases and vascular pathologies, there are few known risk factors for tinnitus apart from these conditions. There is anecdotal evidence of an link between mobile phone use and tinnitus, but so far there have been no systematic investigations into this possible association. Methods: 100 consecutive patients presenting with tinnitus were enrolled in an individually matched case–control study. For each case a control subject was randomly selected from visiting outpatients matched for sex and age. The patient's history was obtained and clinical examinations were conducted to exclude patients with known underlying causes of tinnitus. Mobile phone use was assessed based on the Interphone Study protocol. ORs were computed by conditional logistic regression with years of education and living in an urban area as covariates. Results: Mobile phone use up to the index date (onset of tinnitus) on the same side as the tinnitus did not have significantly elevated ORs for regular use and intensity or for cumulative hours of use. The risk estimate was significantly elevated for prolonged use (≥4 years) of a mobile phone (OR 1.95; CI 1.00 to 3.80). Conclusions Mobile phone use should be included in future investigations as a potential risk factor for developing tinnitus. | D12: Hutter Hans-Peter, Hanns Moshammer, Peter Wallner, Monika Cartellieri, Doris-Maria Denk-Linnert, Michaela Katzinger, Klaus Ehrenberger, Michael Kundi. | E12: 40352 | F12: UHF (300 MHz-3 GHz) studies | L12: Real | M12: Mobile Phone | N12: Pulsed | Q12: Uncertain Effect | R12: 0 | S12: 0 | T12: 0 | U12: 0 | V12: 0 | W12: 0 | X12: 0 | Y12: 0 | Z12: 0 | AA12: 0 | AB12: 1 | AC12: 0 | AD12: 0 | AE12: 1 | AF12: 0 | AG12: 0 | AH12: 0 | AI12: 0 | AJ12: =IF(OR(AC12=1,AE12=1),1,0) -> 1 | AK12: =IF(OR(AF12=1,AG12=1),1,0) -> 0 | AL12: =IF(OR(AD12=1,AH12=1,AI12=1),1,0) -> 0 | AM12: =IF(OR(AD12=1,AH12=1),1,0) -> 0 | AN12: http://oem.bmj.com/content/early/2010/06/23/oem.2009.048116
A13: 338 | B13: Symptoms, personality traits, and stress in people with mobile phone-related symptoms and electromagnetic hypersensitivity | C13: OBJECTIVE: Some people report symptoms that they associate with electromagnetic field (EMF) exposure. These symptoms may be related to specific EMF sources or to electrical equipment in general (perceived electromagnetic hypersensitivity, EHS). Research and clinical observations suggest a difference between mobile phone (MP)-related symptoms and EHS with respect to symptom prevalence, psychological factors, and health prognosis. This study assessed prevalence of EMF-related and EMF-nonrelated symptoms, anxiety, depression, somatization, exhaustion, and stress in people with MP-related symptoms or EHS versus a population-based sample and a control sample without EMF-related symptoms. METHODS: 45 participants with MP-related symptoms and 71 with EHS were compared with a population-based sample (n=106) and a control group (n=63) using self-report questionnaires. RESULTS: The EHS group reported more symptoms than the MP group, both EMF-related and EMF-nonrelated. The MP group reported a high prevalence of somatosensory symptoms, whereas the EHS group reported more neurasthenic symptoms. As to self-reported personality traits and stress, the case groups differed only on somatization and listlessness in a direct comparison. In comparison with the reference groups, the MP group showed increased levels of exhaustion and depression but not of anxiety, somatization, and stress; the EHS group showed increased levels for all of the conditions except for stress. CONCLUSION: The findings support the idea of a difference between people with symptoms related to specific EMF sources and people with general EHS with respect to symptoms and anxiety, depression, somatization, exhaustion, and stress. The differences are likely to be important in the management of patients. | D13: Johansson A, Nordin S, Heiden M, Sandström M. | E13: 40179 | F13: UHF (300 MHz-3 GHz) studies | L13: Real | M13: Mobile Phone | N13: Pulsed | Q13: Effect | R13: 0 | S13: 0 | T13: 0 | U13: 0 | V13: 0 | W13: 0 | X13: 0 | Y13: 0 | Z13: 0 | AA13: 0 | AB13: 1 | AC13: 1 | AD13: 0 | AE13: 0 | AF13: 1 | AG13: 0 | AH13: 0 | AI13: 0 | AJ13: =IF(OR(AC13=1,AE13=1),1,0) -> 1 | AK13: =IF(OR(AF13=1,AG13=1),1,0) -> 1 | AL13: =IF(OR(AD13=1,AH13=1,AI13=1),1,0) -> 0 | AM13: =IF(OR(AD13=1,AH13=1),1,0) -> 0 | AN13: http://www.ncbi.nlm.nih.gov/pubmed/20004299
A14: 344 | B14: The effect of mobile phone to audiologic system | C14: Mobile phones have come into widespread use. There are a lot of possible adverse effect to health. Use of mobile phone generate potentially harmful radiofrequency electromagnetic field (EMF) particularly for the hearing aspect. 98 subjects underwent hearing evaluations at Department of Otolaryngology, Faculty of Medicine, King Chulalongkorn Memorial Hospital, Chulalongkorn University. 31 males and 67females, mean age was 30.48 +/- 9.51 years old, all subjects were investigated the hearing level by audiometry, tympanometry, otoacoustic emission (OAE) and auditory brain stem evoked response (ABR). The average of using time were 32.54 +/- 27.64 months, 57 subjects usually used the right side and 41 the left side. Average time of use per day was 26.31 +/- 30.91 minutes (range from 3 to 180 mins). When the authors compared the audiogram, both pure tone and speech audiometry, between the dominant and nondominant side, it indicated that there is no significant different. When the authors focused on the 8 subjects that used the mobile phone more than 60 mins per day. It indicated that the hearing threshold of the dominant ears was worse than the nondominant ears. | D14: Kerekhanjanarong V, Supiyaphun P, Naratricoon J, Laungpitackchumpon P. | E14: 38596 | F14: UHF (300 MHz-3 GHz) studies | L14: Real | M14: Mobile Phone | N14: Pulsed | Q14: Effect | R14: 1 | S14: 0 | T14: 0 | U14: 0 | V14: 0 | W14: 0 | X14: 0 | Y14: 0 | Z14: 0 | AA14: 0 | AB14: 1 | AC14: 0 | AD14: 0 | AE14: 0 | AF14: 0 | AG14: 0 | AH14: 0 | AI14: 1 | AJ14: =IF(OR(AC14=1,AE14=1),1,0) -> 0 | AK14: =IF(OR(AF14=1,AG14=1),1,0) -> 0 | AL14: =IF(OR(AD14=1,AH14=1,AI14=1),1,0) -> 1 | AM14: =IF(OR(AD14=1,AH14=1),1,0) -> 0 | AN14: https://pubmed.ncbi.nlm.nih.gov/16623034/
A15: 345 | B15: Adverse effects of excessive mobile phone use | C15: Abstract INTRODUCTION: Research findings indicate that the use of mobile phones may lead to a number of symptoms such as headache, impaired concentration and memory, and also fatigue. MATERIALS AND METHODS: The present study was designed to investigate whether the symptoms of ill health reported by young people may be associated with the use of mobile phone (MP) and to analyze its influence on health and development of medical students. The questionnaire was designed specifically for this study and contained items regarding health condition and health complaints as well as the frequency of MP use. The response rate was 86.6% (286 of 330 forms, completed by 73.77% males and 26.22% females). RESULTS: Most of the subjects (83.57%) had some knowledge about the adverse effects of MP use. 76.92% of the students carried one mobile, and 23.08% more than one. 55.94%, of the subjects reported the average daily MP use of less than 30 min, 27.97%, of 30-60 min, 11.53%, of 60-90 min and 4.54% of more than 90 min. 16.08% of the subjects complained of headache and 24.48% of fatigue. Impaired concentration was reported by 34.27% of respondents, memory disturbances by 40.56%, sleeplessness by 38.8%, hearing problems by 23.07%, and facial dermatitis by 16.78%. The sensation of warmth within the auricle and behind/around the ear was reported by 28.32%. Out of 286 subjects who participated in this study, 44.4% related their symptoms to mobile phone use. CONCLUSIONS: The findings of the present study indicate that mobile phones play a large part in the daily life of medical students. Therefore, its impact on psychology and health should be discussed among the students to prevent the harmful effects of mobile phone use. Free Full Text Available | D15: Khan MM. | E15: 39479 | F15: UHF (300 MHz-3 GHz) studies | L15: Real | M15: Mobile Phone | N15: Pulsed | Q15: Effect | R15: 1 | S15: 0 | T15: 0 | U15: 0 | V15: 0 | W15: 0 | X15: 0 | Y15: 0 | Z15: 0 | AA15: 0 | AB15: 1 | AC15: 0 | AD15: 0 | AE15: 0 | AF15: 0 | AG15: 0 | AH15: 0 | AI15: 1 | AJ15: =IF(OR(AC15=1,AE15=1),1,0) -> 0 | AK15: =IF(OR(AF15=1,AG15=1),1,0) -> 0 | AL15: =IF(OR(AD15=1,AH15=1,AI15=1),1,0) -> 1 | AM15: =IF(OR(AD15=1,AH15=1),1,0) -> 0 | AN15: http://www.ncbi.nlm.nih.gov/pubmed/19228576
A16: 363 | B16: Association of tinnitus and electromagnetic hypersensitivity: hints for a shared pathophysiology? | C16: Abstract BACKGROUND: Tinnitus is a frequent condition with high morbidity and impairment in quality of life. The pathophysiology is still incompletely understood. Electromagnetic fields are discussed to be involved in the multi-factorial pathogenesis of tinnitus, but data proofing this relationship are very limited. Potential health hazards of electromagnetic fields (EMF) have been under discussion for long. Especially, individuals claiming themselves to be electromagnetic hypersensitive suffer from a variety of unspecific symptoms, which they attribute to EMF-exposure. The aim of the study was to elucidate the relationship between EMF-exposure, electromagnetic hypersensitivity and tinnitus using a case-control design. METHODOLOGY: Tinnitus occurrence and tinnitus severity were assessed by questionnaires in 89 electromagnetic hypersensitive patients and 107 controls matched for age-, gender, living surroundings and workplace. Using a logistic regression approach, potential risk factors for the development of tinnitus were evaluated. FINDINGS: Tinnitus was significantly more frequent in the electromagnetic hypersensitive group (50.72% vs. 17.5%) whereas tinnitus duration and severity did not differ between groups. Electromagnetic hypersensitivity and tinnitus were independent risk factors for sleep disturbances. However, measures of individual EMF-exposure like e.g. cell phone use did not show any association with tinnitus. CONCLUSIONS: Our data indicate that tinnitus is associated with subjective electromagnetic hypersensitivity. An individual vulnerability probably due to an over activated cortical distress network seems to be responsible for, both, electromagnetic hypersensitivity and tinnitus. Hence, therapeutic efforts should focus on treatment strategies (e.g. cognitive behavioral therapy) aiming at normalizing this dysfunctional distress network. Full Text Available | D16: Landgrebe M, Frick U, Hauser S, Hajak G, Langguth B. | E16: 39873 | F16: UHF (300 MHz-3 GHz) studies | O16: 0 | P16: Human Provocation | Q16: No Effect | R16: 0 | S16: 0 | T16: 0 | U16: 0 | V16: 0 | W16: 0 | X16: 0 | Y16: 0 | Z16: 0 | AA16: 0 | AB16: 1 | AC16: 1 | AD16: 0 | AE16: 0 | AF16: 0 | AG16: 0 | AH16: 0 | AI16: 0 | AJ16: =IF(OR(AC16=1,AE16=1),1,0) -> 1 | AK16: =IF(OR(AF16=1,AG16=1),1,0) -> 0 | AL16: =IF(OR(AD16=1,AH16=1,AI16=1),1,0) -> 0 | AM16: =IF(OR(AD16=1,AH16=1),1,0) -> 0 | AN16: http://www.ncbi.nlm.nih.gov/pubmed/19325894
A17: 382 | B17: Do mobile phones cause hearing and vision complaints? A preliminary report | C17: Abstract The present study demonstrated a relationship between hearing and vision complaints in subjects exposed to mobile phone emissions. Keeping in view the findings of the present study, it is advisable; therefore, that the use of a mobile phone is a risk factor for health hazards and suggests that unnecessary use of mobile phones should be avoided by health promotion activities, such as group discussion, public presentations and through electronic and print media sources. In addition, further large sized studies, along with detailed clinical examinations, are needed to study the long-term effects of mobile phone use and hearing and vision disorders. Free Full Text Available | D17: Meo SA, Al-Drees AM. | E17: 38473 | F17: UHF (300 MHz-3 GHz) studies | L17: Real | M17: Mobile Phone | N17: Pulsed | Q17: Uncertain Effect | R17: 0 | S17: 0 | T17: 0 | U17: 0 | V17: 0 | W17: 0 | X17: 0 | Y17: 0 | Z17: 0 | AA17: 0 | AB17: 1 | AC17: 0 | AD17: 0 | AE17: 0 | AF17: 0 | AG17: 0 | AH17: 0 | AI17: 1 | AJ17: =IF(OR(AC17=1,AE17=1),1,0) -> 0 | AK17: =IF(OR(AF17=1,AG17=1),1,0) -> 0 | AL17: =IF(OR(AD17=1,AH17=1,AI17=1),1,0) -> 1 | AM17: =IF(OR(AD17=1,AH17=1),1,0) -> 0 | AN17: http://smj.psmmc.med.sa/index.php/smj/article/view/5374/3148
A18: 383 | B18: Mobile phone related-hazards and subjective hearing and vision symptoms in the Saudi population | C18: Abstract OBJECTIVES: Over the past decade utilization of mobile phones has dramatically increased. They are now an essential part of business, commerce, and communication, however, their use may lead to health problems. Therefore, the present study was designed to investigate a link between the use of mobile phones and hearing and vision symptoms in the Saudi population and also to contribute to the increase in social awareness of health problems associated with the use of these devices. MATERIALS AND METHODS: A total of 873 (57.04% of males and 39.86% of females) subjects using mobile phones were invited to participate in the presented study. A structured questionnaire was distributed among them to collect a detailed medical history. The Chi-square test was employed to observe the relationship between duration of calls and hearing and vision complaints. RESULTS: The present study showed an association between the use of mobile phones and hearing and vision complaints. About 34.59% of problems were related with impaired hearing, ear ache and/or warmth on the ear, and 5.04% of complaints with the decreased and/or blurred vision. CONCLUSIONS: It is concluded that the use of mobile phone is a health risk factor, and thus it is suggested that excessive use of mobile phones should be avoided and social awareness increased through health promotion activities, such as group discussions or public presentations and via electronic and printed media sources. | D18: Meo SA, Al-Drees AM. | E18: 38384 | F18: UHF (300 MHz-3 GHz) studies | G18: 1800 | H18: 900 | L18: Real | M18: Mobile Phone | N18: Pulsed | O18: 0 | P18: Human - Volunteers | Q18: Effect | R18: 1 | S18: 0 | T18: 0 | U18: 0 | V18: 0 | W18: 0 | X18: 0 | Y18: 0 | Z18: 0 | AA18: 0 | AB18: 1 | AC18: 0 | AD18: 0 | AE18: 0 | AF18: 0 | AG18: 0 | AH18: 0 | AI18: 1 | AJ18: =IF(OR(AC18=1,AE18=1),1,0) -> 0 | AK18: =IF(OR(AF18=1,AG18=1),1,0) -> 0 | AL18: =IF(OR(AD18=1,AH18=1,AI18=1),1,0) -> 1 | AM18: =IF(OR(AD18=1,AH18=1),1,0) -> 0 | AN18: http://www.ncbi.nlm.nih.gov/pubmed/16052891
A19: 406 | B19: Effects of intensive and moderate cellular phone use on hearing function | C19: The purpose of this study is to investigate the effects of radiation emitted by mobile phones on the hearing of users. The study was carried out on three groups: 1) 20 men who have used a cellular phone frequently and spoken approximately 2 h per day for four years; 2) 20 men who have used a cellular phone for 10-20 min per day for four years; and 3) 20 healthy men who have never used a cellular phone (the control group). Brainstem evoked response audiometric (BERA) and pure tone audiometric (PTA) methods were used to measure the effects of exposure on hearing function of the subjects. In BERA measurements, I-III, III-V, and I-V interpeak latencies were evaluated. Interpeak latency of subjects in two experimental groups was compared to that of subjects in the control group. The BERA results showed no differences among the groups (p > 0.05). In PTA measurements, detection thresholds at 250 Hz, 500 Hz, 1000 Hz, 2000 Hz, 4000 Hz, and 8000 Hz frequencies were measured in all three groups. No differences were observed between moderate mobile phone users (10-20 min. per day) and control subjects. However, detection thresholds in those who talked approximately 2 h per day were found to be higher than those in either moderate users or control subjects. Differences at 4000 Hz for both bone and air conduction for right ears, and 500 Hz, and 4000 Hz bone and air conduction for left ears were significant for mean hearing threshold. This study shows that a higher degree of hearing loss is associated with long-term exposure to electromagnetic (EM) field generated by cellular phones. | D19: Oktay MF, Dasdag S. | E19: 38718 | F19: UHF (300 MHz-3 GHz) studies | L19: Real | M19: Mobile Phone | N19: Pulsed | Q19: Effect | R19: 1 | S19: 0 | T19: 0 | U19: 0 | V19: 0 | W19: 0 | X19: 0 | Y19: 0 | Z19: 0 | AA19: 0 | AB19: 1 | AC19: 0 | AD19: 0 | AE19: 0 | AF19: 0 | AG19: 0 | AH19: 0 | AI19: 1 | AJ19: =IF(OR(AC19=1,AE19=1),1,0) -> 0 | AK19: =IF(OR(AF19=1,AG19=1),1,0) -> 0 | AL19: =IF(OR(AD19=1,AH19=1,AI19=1),1,0) -> 1 | AM19: =IF(OR(AD19=1,AH19=1),1,0) -> 0 | AN19: http://www.ncbi.nlm.nih.gov/pubmed/16595330
A20: 410 | B20: Audiologic disturbances in long-term mobile phone users | C20: Abstract INTRODUCTION: There is general concern regarding the possible hazardous health effects of exposure to radiofrequency electromagnetic radiation emitted from mobile phones. This study aimed to assess the effects of chronic exposure to electromagnetic waves emitted from Global System for Mobile Communication (GSM) mobile phones on auditory functions. MATERIAL AND METHODS: A retrospective, cross-sectional, randomized, case control study was carried out in a tertiary care hospital. One hundred twelve subjects who were long-term mobile phone users (more than 1 year) and 50 controls who had never used a mobile phone underwent a battery of audiologic investigations including pure-tone audiometry (both speech and high frequency), tympanometry, distortion product otoacoustic emissions, auditory brain responses, and middle latency responses. Changes in the various parameters were studied in the mobile phone- and non-mobile phone-using ears of subjects and corresponding ears of the controls to ascertain the effects of electromagnetic exposure. RESULTS: There was no significant difference between users and controls for any of the audiologic parameters. However, trends for audiologic abnormalities were seen within the users. High-frequency loss and absent distortion product otoacoustic emissions were observed with an increase in the duration of mobile phone use, excessive use of mobile phones, and age more than 30 years. Additionally, users with some complaints during mobile phone use demonstrated absent distortion product otoacoustic emissions and abnormalities in auditory brainstem response. CONCLUSION: Long-term and intensive mobile phone use may cause inner ear damage. A large sample size would be required to reach definitive conclusions. | D20: Panda NK, Jain R, Bakshi J, Munjal S. | E20: 40210 | F20: UHF (300 MHz-3 GHz) studies | L20: Real | M20: Mobile Phone | N20: Pulsed | Q20: Effect | R20: 1 | S20: 0 | T20: 0 | U20: 0 | V20: 0 | W20: 0 | X20: 0 | Y20: 0 | Z20: 0 | AA20: 0 | AB20: 1 | AC20: 0 | AD20: 0 | AE20: 0 | AF20: 0 | AG20: 0 | AH20: 0 | AI20: 1 | AJ20: =IF(OR(AC20=1,AE20=1),1,0) -> 0 | AK20: =IF(OR(AF20=1,AG20=1),1,0) -> 0 | AL20: =IF(OR(AD20=1,AH20=1,AI20=1),1,0) -> 1 | AM20: =IF(OR(AD20=1,AH20=1),1,0) -> 0 | AN20: https://www.emf-portal.org/en/article/17936
